Workbook
Name __1PRINT_RANGE: #REF!
Name __1PRINT_RANGE: #REF!
Name _1PRINT_RANGE: #REF!
Name _1PRINT_RANGE: #REF!
Name Cost_per_Ounce: '[1]Recipe Info'!#REF!
Name Cost_per_Ounce: '[1]Recipe Info'!#REF!
Name Days: #REF!
Name Days: #REF!
Name Gross_or_Not: #REF!
Name Gross_or_Not: #REF!
Name Menu_Prices_Gross: #REF!
Name Menu_Prices_Gross: #REF!
Name NvsASD: "V2017-01-31"
Name NvsAutoDrillOk: "VN"
Name NvsElapsedTime: 0.0000231481535593048
Name NvsEndTime: 42774.3401851852
Name NvsInstLang: "VENG"
Name NvsInstSpec: "%,FDEPTID,V1130"
Name NvsInstSpec1: ","
Name NvsInstSpec2: ","
Name NvsInstSpec3: ","
Name NvsInstSpec4: ","
Name NvsInstSpec5: ","
Name NvsInstSpec6: ","
Name NvsInstSpec7: ","
Name NvsInstSpec8: ","
Name NvsInstSpec9: ","
Name NvsLayoutType: "M3"
Name NvsPanelBusUnit: "V"
Name NvsPanelEffdt: "V1900-01-01"
Name NvsPanelSetid: "VGSI"
Name NvsReqBU: "VGSI"
Name NvsReqBUOnly: "VN"
Name NvsTransLed: "VN"
Name NvsTreeASD: "V2017-01-31"
Name Population: #REF!
Name Population: #REF!
Name SCHEDULE: #REF!
Name SCHEDULE: #REF!
Name Tax_Rate: #REF!
Name Tax_Rate: #REF!

Sheet Transfer
G1: Internal
G2: Transfer Of Supplies Or Services | L2: WD Account | M2: WD Account Description
G3: Version 3 | L3: 12000 | M3: Inventory
F4: DEBIT | L4: 50000 | M4: Food Cost of Sales
F5: Account # | G5: Amount | H5: Cost Center | I5: Spend Category ID | J5: Spend Category | L5: 52000 | M5: Merchandise Cost of Sales
B6: Transfer To Cost Center | D6: CC0 | E6: 1 | H6: =$D$6 -> CC0
B7: Transfer To Cost Center Name | E7: 3 | H7: =$D$6 -> CC0
E8: 5 | H8: =$D$6 -> CC0
B9: Transfer From Cost Center Number | D9: CC0 | E9: 7 | H9: =$D$6 -> CC0
B10: Transfer From Cost Center Name | E10: 9 | H10: =$D$6 -> CC0
E11: 11 | H11: =$D$6 -> CC0
B12: Name of Submitter:
L13: Spend Category ID | M13: Spend Category
F14: CREDIT | L14: SC033 | M14: Beer
B15: Transfer Date | F15: Account # | G15: Amount | H15: Cost Center | I15: Spend Category ID | J15: Spend Category | L15: SC053 | M15: Cleaning Supplies
E16: 2 | H16: =$D$9 -> CC0 | L16: SC113 | M16: Food & Beverage
C17: Debit(s) | D17: =SUM(G6:G11) -> 0 | E17: 4 | H17: =$D$9 -> CC0 | L17: SC122 | M17: Fuel
C18: Credit(s) | D18: =SUM(G16:G21) -> 0 | E18: 6 | H18: =$D$9 -> CC0 | L18: SC123 | M18: Fuel (Non-Resale)
C19: Variance | D19: =D17-D18 -> 0 | E19: 8 | H19: =$D$9 -> CC0 | L19: SC129 | M19: General Merchandise
D20: =IF(AND(D17=D18,D17=E56), "","Error") | E20: 10 | H20: =$D$9 -> CC0 | L20: SC141 | M20: Ice Cream
E21: 12 | H21: =$D$9 -> CC0 | L21: SC226 | M21: Replacements - Linen
L22: SC159 | M22: Liquor
B23: Quantity | C23: Item Description | D23: Unit Cost | E23: Extended Cost | F23: Spend Category | G23: Damaged/Spoiled/Obsolete Reason | I23: Note | L23: SC174 | M23: Native American Handicraft
E24: =SUM(D24*B24) -> 0 | L24: SC197 | M24: Paper Supplies
E25: =SUM(D25*B25) -> 0 | L25: SC209 | M25: Propane
E26: =SUM(D26*B26) -> 0 | L26: SC239 | M26: Souvenirs & Gifts
E27: =SUM(D27*B27) -> 0 | L27: SC241 | M27: Sports Equipment
E28: =SUM(D28*B28) -> 0 | L28: SC276 | M28: Wine
E29: =SUM(D29*B29) -> 0 | L29: SC074 | M29: Damaged/Spoiled Food
E30: =SUM(D30*B30) -> 0 | L30: SC119 | M30: Freight Charges - Food
E31: =SUM(D31*B31) -> 0 | L31: SC120 | M31: Freight Charges - General Merchandise
E32: =SUM(D32*B32) -> 0 | L32: SC073 | M32: Damaged/Obsolete Retail
E33: =SUM(D33*B33) -> 0
E34: =SUM(D34*B34) -> 0
E35: =SUM(D35*B35) -> 0
E36: =SUM(D36*B36) -> 0
E37: =SUM(D37*B37) -> 0
E38: =SUM(D38*B38) -> 0
E39: =SUM(D39*B39) -> 0
E40: =SUM(D40*B40) -> 0
...

Sheet Account Info.
B1: PeopleSoft (Archive) | C1: WD Ledger Account # | D1: WD Account Description | E1: Spend Category | F1: Spend Category ID | K1: Decription
B2: 12000 | C2: 12000 | D2: Inventory | E2: Food & Beverage | F2: SC113 | K2: Beer
B3: 12004 | C3: 12000 | D3: Inventory | E3: Beer | F3: SC033 | K3: Breakfast - Free to Guest
B4: 12005 | C4: 12000 | D4: Inventory | E4: Wine | F4: SC276 | K4: Cleaning Supplies
B5: 12006 | C5: 12000 | D5: Inventory | E5: Liquor | F5: SC159 | K5: Client Food
B6: 12007 | C6: 12000 | D6: Inventory | E6: Ice Cream | F6: SC141 | K6: Damaged/Obsolete Retail
B7: 12500 | C7: 12000 | D7: Inventory | E7: General Merchandise | F7: SC129 | K7: Damaged/Spoiled Food
B8: 12501 | C8: 12000 | D8: Inventory | E8: Native American Handicraft | F8: SC174 | K8: Employee Meals
B9: 12502 | C9: 12000 | D9: Inventory | E9: Souvenirs & Gifts | F9: SC239 | K9: Food & Beverage
B10: 12504 | C10: 12000 | D10: Inventory | E10: Cleaning Supplies | F10: SC053 | K10: Freight Charges - Food
B11: 12505 | C11: 12000 | D11: Inventory | E11: Paper Supplies | F11: SC197 | K11: Freight Charges - General Merchandise
B12: 12512 | C12: 12000 | D12: Inventory | E12: Fuel | F12: SC122 | K12: Fuel
B13: 12516 | C13: 12000 | D13: Inventory | E13: Fuel (Non-Resale) | F13: SC123 | K13: Fuel (Non-Resale)
... B27: 73000 | C27: 73000 | D27: Repairs & Maintenance | E27: Maintenance | F27: SC162 | K27: Souvenirs & Gifts
B28: 73014 | C28: 73000 | D28: Repairs & Maintenance | E28: Marina Maintenance Parts - Expensed - Nontaxable | F28: SC164
B29: 73002 | C29: 73000 | D29: Repairs & Maintenance | E29: Groundskeeping/Maintenance | F29: SC131 | K29: Sports Equipment
B30: 76504 | C30: 74000 | D30: Advertising & Promotion | E30: In-House Promotions | F30: SC143 | K30: Wine

Sheet GL
A1: Submit Accounting Journal - v41.2 | Z1: =SUM(Z6:Z196) -> 0 | AA1: =SUM(AA6:AA196) -> 0 | AB1: =SUM(Z6:Z29)=SUM(AA6:AA29) -> TRUE | AD1: Prepared By: | AF1: Name Here
A2: Area | B2: All | E2: Journal Entry Header | U2: Journal Entry Line Replacement Data+ (All > Accounting Journal Data)
A3: Restrictions | B3: Required | C3: Optional | D3: Optional | E3: Optional | F3: Optional | G3: Optional | H3: Required | I3: Required | J3: Required | K3: Optional | L3: Required | M3: Required | N3: Required | O3: Optional | P3: Optional | Q3: Optional | R3: Optional | S3: Optional | T3: Optional | U3: Required | V3: Optional | W3: Optional | X3: Required | Y3: Optional | Z3: Required | AA3: Required | AB3: As Needed | AC3: Optional | AD3: Required | AE3: Optional. May have multiples | AF3: As Needed | AG3: As Needed | AH3: Optional. May have multiples | AI3: Optional. May have multiples | AJ3: Optional. May have multiples
A4: Format | B4: Text | C4: Y/N | D4: Accounting_Journal_ID | E4: Text | F4: Text | G4: Text | H4: Company_Reference_ID | I4: Currency_ID | J4: Ledger_Type_ID | K4: Book_Code_ID | L4: YYYY-MM-DD | M4: Journal_Source_ID | N4: Text | O4: Text | P4: Y/N | Q4: Y/N | R4: Y/N | S4: YYYY-MM-DD | T4: Number (26,6) | U4: Text | V4: Text | W4: Company_Reference_ID | X4: Ledger_Account_ID | Y4: Account_Set_ID | Z4: Number (26,6) | AA4: Number (26,6) | AB4: Text | AC4: Text | AD4: Cost_Center_Reference_ID | AE4: Location_ID | AF4: Revenue_Category_ID | AG4: Spend_Category_ID | AH4: Region_Reference_ID | AI4: Bank_Account_ID | AJ4: Custom_Worktag_06_ID
A5: Fields | B5: Spreadsheet Key* | C5: Add Only | D5: Accounting Journal | E5: Accounting Journal ID | F5: Journal Number | G5: Journal Sequence Number | H5: Company* | I5: Currency* | J5: Ledger Type* | K5: Book Code | L5: Accounting Date* | M5: Journal Source* | N5: Journal Entry Memo | O5: External Reference ID | P5: Adjustment Journal | Q5: Include Tax Lines | R5: Create Reversal | S5: Reversal Date | T5: Control Total Amount | U5: Row ID* | V5: Line Order | W5: Line Company | X5: Ledger Account* | Y5: Account Set | Z5: Debit Amount | AA5: Credit Amount | AB5: Memo | AC5: External Reference ID | AD5: Cost Center | AE5: Location | AF5: Revenue Category | AG5: Spend Category | AH5: Region | AI5: Bank Account | AJ5: Payment Type
L6: =Transfer!D15 -> 0 | M6: Manual_Journal | N6: Transfer | U6: 1 | X6: =Transfer!F6 -> 0 | Z6: =Transfer!G6 -> 0 | AD6: =Transfer!H6 -> CC0 | AG6: =Transfer!I6 -> 0
U7: 2 | X7: =Transfer!F16 -> 0 | AA7: =Transfer!G16 -> 0 | AD7: =Transfer!H16 -> CC0 | AG7: =Transfer!I16 -> 0
U8: 3 | X8: =Transfer!F7 -> 0 | Z8: =Transfer!G7 -> 0 | AD8: =Transfer!H7 -> CC0 | AG8: =Transfer!I7 -> 0
U9: 4 | X9: =Transfer!F17 -> 0 | AA9: =Transfer!G17 -> 0 | AD9: =Transfer!H17 -> CC0 | AG9: =Transfer!I17 -> 0
U10: 5 | X10: =Transfer!F8 -> 0 | Z10: =Transfer!G8 -> 0 | AD10: =Transfer!H8 -> CC0 | AG10: =Transfer!I8 -> 0
U11: 6 | X11: =Transfer!F18 -> 0 | AA11: =Transfer!G18 -> 0 | AD11: =Transfer!H18 -> CC0 | AG11: =Transfer!I18 -> 0
U12: 7 | X12: =Transfer!F9 -> 0 | Z12: =Transfer!G9 -> 0 | AD12: =Transfer!H9 -> CC0 | AG12: =Transfer!I9 -> 0
U13: 8 | X13: =Transfer!F19 -> 0 | AA13: =Transfer!G19 -> 0 | AD13: =Transfer!H19 -> CC0 | AG13: =Transfer!I19 -> 0
U14: 9 | X14: =Transfer!F10 -> 0 | Z14: =Transfer!G10 -> 0 | AD14: =Transfer!H10 -> CC0 | AG14: =Transfer!I10 -> 0
U15: 10 | X15: =Transfer!F20 -> 0 | AA15: =Transfer!G20 -> 0 | AD15: =Transfer!H20 -> CC0 | AG15: =Transfer!I20 -> 0
U16: 11 | X16: =Transfer!F11 -> 0 | Z16: =Transfer!G11 -> 0 | AD16: =Transfer!H11 -> CC0 | AG16: =Transfer!I11 -> 0
U17: 12 | X17: =Transfer!F21 -> 0 | AA17: =Transfer!G21 -> 0 | AD17: =Transfer!H21 -> CC0 | AG17: =Transfer!I21 -> 0
